BEGIN:VCALENDAR
VERSION:2.0
PRODID:-//Shake Your Buns &amp; Do The Twist - ECPv6.9.1//NONSGML v1.0//EN
CALSCALE:GREGORIAN
METHOD:PUBLISH
X-WR-CALNAME:Shake Your Buns &amp; Do The Twist
X-ORIGINAL-URL:https://shakeyourbunsanddothetwist.com
X-WR-CALDESC:Events for Shake Your Buns &amp; Do The Twist
REFRESH-INTERVAL;VALUE=DURATION:PT1H
X-Robots-Tag:noindex
X-PUBLISHED-TTL:PT1H
BEGIN:VTIMEZONE
TZID:America/New_York
BEGIN:DAYLIGHT
TZOFFSETFROM:-0500
TZOFFSETTO:-0400
TZNAME:EDT
DTSTART:20240310T070000
END:DAYLIGHT
BEGIN:STANDARD
TZOFFSETFROM:-0400
TZOFFSETTO:-0500
TZNAME:EST
DTSTART:20241103T060000
END:STANDARD
END:VTIMEZONE
BEGIN:VEVENT
DTSTART;VALUE=DATE:20240413
DTEND;VALUE=DATE:20240414
DTSTAMP:20260422T185212
CREATED:20240228T133732Z
LAST-MODIFIED:20240228T133732Z
UID:1018-1712966400-1713052799@shakeyourbunsanddothetwist.com
SUMMARY:Central PA Pretzel Fest
DESCRIPTION:
URL:https://shakeyourbunsanddothetwist.com/event/central-pa-pretzel-fest/
LOCATION:Bloomsburg Fair Grounds\, 900 W Main St\, Bloomsburg\, PA\, 17815\, United States
END:VEVENT
END:VCALENDAR